BEGIN:VCALENDAR
VERSION:2.0
PRODID:-//Phippen Museum - ECPv6.15.20//NONSGML v1.0//EN
CALSCALE:GREGORIAN
METHOD:PUBLISH
X-ORIGINAL-URL:https://phippenartmuseum.org
X-WR-CALDESC:Events for Phippen Museum
REFRESH-INTERVAL;VALUE=DURATION:PT1H
X-Robots-Tag:noindex
X-PUBLISHED-TTL:PT1H
BEGIN:VTIMEZONE
TZID:America/Phoenix
BEGIN:STANDARD
TZOFFSETFROM:-0700
TZOFFSETTO:-0700
TZNAME:MST
DTSTART:20250101T000000
END:STANDARD
END:VTIMEZONE
BEGIN:VEVENT
DTSTART;TZID=America/Phoenix:20260523T173000
DTEND;TZID=America/Phoenix:20260523T173000
DTSTAMP:20260420T095650
CREATED:20260325T223424Z
LAST-MODIFIED:20260416T175004Z
UID:8271-1779557400-1779557400@phippenartmuseum.org
SUMMARY:Phippen Museum's Hometown Hoedown
DESCRIPTION:Phippen Museum\nMay 23\, 5:30 P.M.\n🎟 Members: $80 | Non-Members: $95📞 Reservations required: 928-778-1385\nSaddle up for an unforgettable evening at the Phippen Museum’s Hometown Hoedown—a lively celebration of Western art\, culture\, and community. Join us on Saturday\, May 23\, 2026 at 5:30 PM for a festive night featuring a delicious dinner\, live entertainment\, and a special artist meet & greet. \nSet against the backdrop of the American West\, this signature event brings together friends\, art lovers\, and supporters for a true hometown experience. Enjoy incredible cuisine by Greenway Catering & Events\, sweet treats from Nothing Bundt Cakes\, and live music by Stringbees that will keep the energy high all evening long. \nWhether you’re connecting with artists\, mingling with fellow guests\, or simply soaking in the atmosphere\, the Hometown Hoedown is a celebration you won’t want to miss. \nCome for the art\, stay for the fun—and experience the spirit of the West like never before.
URL:https://phippenartmuseum.org/event/phippen-museums-hometown-hoedown/
LOCATION:Phippen Museum\, 4701 HWY 89 North\, Prescott\, 86301\, United States
CATEGORIES:Annual Event
ATTACH;FMTTYPE=image/jpeg:https://phippenartmuseum.org/wp-content/uploads/2026/03/Hometown-Hoed-down-FInal-scaled.jpg
END:VEVENT
END:VCALENDAR