BEGIN:VCALENDAR
VERSION:2.0
PRODID:-//Phippen Museum - ECPv6.15.20//NONSGML v1.0//EN
CALSCALE:GREGORIAN
METHOD:PUBLISH
X-WR-CALNAME:Phippen Museum
X-ORIGINAL-URL:https://phippenartmuseum.org
X-WR-CALDESC:Events for Phippen Museum
REFRESH-INTERVAL;VALUE=DURATION:PT1H
X-Robots-Tag:noindex
X-PUBLISHED-TTL:PT1H
BEGIN:VTIMEZONE
TZID:America/Phoenix
BEGIN:STANDARD
TZOFFSETFROM:-0700
TZOFFSETTO:-0700
TZNAME:MST
DTSTART:20250101T000000
END:STANDARD
END:VTIMEZONE
BEGIN:VEVENT
DTSTART;TZID=America/Phoenix:20260702T100000
DTEND;TZID=America/Phoenix:20260702T123000
DTSTAMP:20260420T052306
CREATED:20260403T212350Z
LAST-MODIFIED:20260403T212350Z
UID:8304-1782986400-1782995400@phippenartmuseum.org
SUMMARY:Phippen Museum Youth Mini Camp 2026: Fire Safety Day
DESCRIPTION:📅 Dates: July 2  (choose individual days or attend multiple)🕙 Time: 10:00 AM – 12:30 PM📍 Location: Phippen Museum\, Prescott\, AZ👧 Ages: 5–14💲 Cost: $15 per day | $10 for members \nJoin us this summer for hands-on fun at the Phippen Museum’s Youth Mini Camp! Designed for ages 5–14\, each day features engaging activities inspired by life in the Old West—combining art\, history\, and creativity. \nCampers will explore topics like ranch life\, gardening\, cowboy culture\, and local traditions while creating unique art projects such as watercolor paintings\, beaded jewelry\, mosaics\, and more. Special themed days include Cowboy Day\, Fire Safety Day (pending)\, and Parade Prep for Prescott’s Frontier Days. \nSnacks and drinks are provided—please bring a sack lunch. \nSpace is limited to 15 participants per day. Pre-registration is required. \n📞 Register: (928) 778-1385 \nJuly 2 – Fire Safety Day Meet local firefighters\, explore a fire truck\, and create a home safety poster.
URL:https://phippenartmuseum.org/event/phippen-museum-youth-mini-camp-2026-fire-safety-day/
LOCATION:Phippen Museum\, 4701 HWY 89 North\, Prescott\, 86301\, United States
CATEGORIES:Special Event,Wrangler Workshop,Youth Art Programming
ATTACH;FMTTYPE=image/png:https://phippenartmuseum.org/wp-content/uploads/2026/04/3.png
END:VEVENT
BEGIN:VEVENT
DTSTART;TZID=America/Phoenix:20260703T100000
DTEND;TZID=America/Phoenix:20260703T123000
DTSTAMP:20260420T052306
CREATED:20260403T212535Z
LAST-MODIFIED:20260403T212745Z
UID:8307-1783072800-1783081800@phippenartmuseum.org
SUMMARY:Phippen Museum Youth Mini Camp 2026: Parade Day
DESCRIPTION:📅 Dates: July 3  (choose individual days or attend multiple)🕙 Time: 10:00 AM – 12:30 PM📍 Location: Phippen Museum\, Prescott\, AZ👧 Ages: 5–14💲 Cost: $15 per day | $10 for members \nJoin us this summer for hands-on fun at the Phippen Museum’s Youth Mini Camp! Designed for ages 5–14\, each day features engaging activities inspired by life in the Old West—combining art\, history\, and creativity. \nCampers will explore topics like ranch life\, gardening\, cowboy culture\, and local traditions while creating unique art projects such as watercolor paintings\, beaded jewelry\, mosaics\, and more. Special themed days include Cowboy Day\, Fire Safety Day (pending)\, and Parade Prep for Prescott’s Frontier Days. \nSnacks and drinks are provided—please bring a sack lunch. \nSpace is limited to 15 participants per day. Pre-registration is required. \n📞 Register: (928) 778-1385 \nJuly 3 – Parade DayDecorate the museum’s parade float and tie-dye red\, white & blue t-shirts.
URL:https://phippenartmuseum.org/event/phippen-museum-youth-mini-camp-2026-parade-day/
LOCATION:Phippen Museum\, 4701 HWY 89 North\, Prescott\, 86301\, United States
CATEGORIES:Special Event,Wrangler Workshop,Youth Art Programming
ATTACH;FMTTYPE=image/png:https://phippenartmuseum.org/wp-content/uploads/2026/04/3.png
END:VEVENT
BEGIN:VEVENT
DTSTART;VALUE=DATE:20260717
DTEND;VALUE=DATE:20260719
DTSTAMP:20260420T052306
CREATED:20260408T202355Z
LAST-MODIFIED:20260410T193721Z
UID:8311-1784246400-1784419199@phippenartmuseum.org
SUMMARY:The Beauty\, Power and Elegance of the Horse
DESCRIPTION:Two-Day Workshop | July 17–18\, 2026Friday & Saturday | 10:00 AM – 3:00 PMAll Experience Levels Welcome\nNon-Members $250\n Members $200 \nGain a deeper understanding of the horse—from structure to spirit—in this immersive two-day workshop with artist Shelly Hackett. Shelly Hackett is a full time artist based in Fountain Hills\, AZ. She currently teaches at the Sonoran Art League and the Sedona Art Center. Shelly is known for her expressive\, atmospheric style and vivid gestural brushwork. Her work captures the essence of her subject- often horses and western themes . Shelly’s classes focus not just on technique \, but on helping students infuse their work with life\, mood and authenticity. Her work has been featured in Western Art Collector magazine and exhibited in galleries across the U.S. \nDay One: Sketching Horses (Graphite Pencil)Participants will begin by drawing a horse using a provided pattern\, then explore the skeletal structure and muscular forms that create movement and balance. Through guided studies\, students will examine key anatomical connections including the head and neck\, facial structure\, legs\, hooves\, shoulders\, and haunches—building a strong foundation for painting. \nDay Two: Oil Painting Horses (Oil on Canvas Board)Students will bring their horse to life in paint\, beginning with background and underpainting techniques. Using bold blocking brushstrokes\, Shelly will guide artists in capturing light\, shadow\, and movement. As the painting develops\, impressionistic brushwork will refine form and expression without overworking details. \nBy the end of the workshop\, participants will have studied the horse from the inside out—creating a finished painting that reflects both artistic skill and the spirit of the animal. \nMedium:• Day One — Graphite Pencil• Day Two — Oil Painting \nMaterials:All materials are included in tuition. Participants are welcome to bring personal brushes if preferred.
URL:https://phippenartmuseum.org/event/the-beauty-power-and-elegance-of-the-horse/
LOCATION:Phippen Museum\, 4701 HWY 89 North\, Prescott\, 86301\, United States
ATTACH;FMTTYPE=image/jpeg:https://phippenartmuseum.org/wp-content/uploads/2026/04/SHelly-Hacket.jpg
END:VEVENT
BEGIN:VEVENT
DTSTART;TZID=America/Phoenix:20260718T130000
DTEND;TZID=America/Phoenix:20260718T130000
DTSTAMP:20260420T052306
CREATED:20260210T202215Z
LAST-MODIFIED:20260410T194814Z
UID:8075-1784379600-1784379600@phippenartmuseum.org
SUMMARY:Art & Wine w/ Gail Trembly and Linda Scott
DESCRIPTION:📅 Saturday\, July 18 • 1:00 PM💵 Members: $35 | Non-Members: $40 \nArt meets nature and a little sunshine ☀️ \nJoin Linda and Gail for a unique experience using dried plants and sunlight to create beautiful prints. This process is unlike anything you’ve tried before—fun\, creative\, and full of surprises! \nAt the Phippen Museum\, our Art & Wine sessions are relaxed\, creative afternoons where guests can unwind\, enjoy a drink\, and explore their artistic side. Each month features a guided\, step-by-step project that’s perfect for beginners and seasoned painters alike — all materials provided\, no experience required.
URL:https://phippenartmuseum.org/event/art-wine-w-gail-trembly-and-linda-scott/
LOCATION:Phippen Museum\, 4701 HWY 89 North\, Prescott\, 86301\, United States
CATEGORIES:Art & Wine,Youth Art Programming
ATTACH;FMTTYPE=image/jpeg:https://phippenartmuseum.org/wp-content/uploads/2026/02/ART-WINE.jpg
END:VEVENT
BEGIN:VEVENT
DTSTART;TZID=America/Phoenix:20260808T130000
DTEND;TZID=America/Phoenix:20260808T130000
DTSTAMP:20260420T052306
CREATED:20260210T202406Z
LAST-MODIFIED:20260318T192258Z
UID:8077-1786194000-1786194000@phippenartmuseum.org
SUMMARY:Art & Wine w/ Lyn DeLano
DESCRIPTION:📅 Saturday\, August 8 • 1:00 PM💵 Members: $35 | Non-Members: $40 \n🐾 A little wild\, a lot of fun! \nFor August’s Art & Wine\, Lyn will show you how to paint a beautiful lynx using watercolors. Learn new techniques and leave with a piece you’ll be proud to show off! \nAt the Phippen Museum\, our Art & Wine sessions are relaxed\, creative afternoons where guests can unwind\, enjoy a drink\, and explore their artistic side. Each month features a guided\, step-by-step project that’s perfect for beginners and seasoned painters alike — all materials provided\, no experience required.
URL:https://phippenartmuseum.org/event/art-wine-w-lyn-delano-3/
LOCATION:Phippen Museum\, 4701 HWY 89 North\, Prescott\, 86301\, United States
CATEGORIES:Art & Wine
END:VEVENT
BEGIN:VEVENT
DTSTART;TZID=America/Phoenix:20260912T130000
DTEND;TZID=America/Phoenix:20260912T130000
DTSTAMP:20260420T052306
CREATED:20260210T202547Z
LAST-MODIFIED:20260318T192919Z
UID:8079-1789218000-1789218000@phippenartmuseum.org
SUMMARY:Art & Wine w/ Bea Palumbo
DESCRIPTION:📅 Saturday\, September 12 • 1:00 PM💵 Members: $35 | Non-Members: $40 \n🎨 Bold color. Beautiful florals. \nCreate your own abstract floral painting with Bea Palumbo as she shows you how to use acrylics to build a vibrant\, eye-catching piece. The perfect way to add something new to your art collection! \nAt the Phippen Museum\, our Art & Wine sessions are relaxed\, creative afternoons where guests can unwind\, enjoy a drink\, and explore their artistic side. Each month features a guided\, step-by-step project that’s perfect for beginners and seasoned painters alike — all materials provided\, no experience required.
URL:https://phippenartmuseum.org/event/art-wine-w-bea-palumbo/
LOCATION:Phippen Museum\, 4701 HWY 89 North\, Prescott\, 86301\, United States
CATEGORIES:Art & Wine
END:VEVENT
BEGIN:VEVENT
DTSTART;TZID=America/Phoenix:20261010T130000
DTEND;TZID=America/Phoenix:20261010T130000
DTSTAMP:20260420T052306
CREATED:20260210T202826Z
LAST-MODIFIED:20260210T202826Z
UID:8081-1791637200-1791637200@phippenartmuseum.org
SUMMARY:Art & Wine w/ Alison Crary & Meg Goodyear
DESCRIPTION:📅 Saturday\, October 10 • 1:00 PM💵 Members: $35 | Non-Members: $40 \nAt the Phippen Museum\, our Art & Wine sessions are relaxed\, creative afternoons where guests can unwind\, enjoy a drink\, and explore their artistic side. Each month features a guided\, step-by-step project that’s perfect for beginners and seasoned painters alike — all materials provided\, no experience required.
URL:https://phippenartmuseum.org/event/art-wine-w-alison-crary-meg-goodyear/
LOCATION:Phippen Museum\, 4701 HWY 89 North\, Prescott\, 86301\, United States
CATEGORIES:Art & Wine
END:VEVENT
BEGIN:VEVENT
DTSTART;TZID=America/Phoenix:20261114T130000
DTEND;TZID=America/Phoenix:20261114T130000
DTSTAMP:20260420T052306
CREATED:20260210T203111Z
LAST-MODIFIED:20260318T194332Z
UID:8083-1794661200-1794661200@phippenartmuseum.org
SUMMARY:Art & Wine w/Francis Leon Beegle
DESCRIPTION:📅 Saturday\, November 14 • 1:00 PM💵 Members: $35 | Non-Members: $40 \nPumpkin spice… but make it paint. 🍂🎨 \nJoin Francis and create a beautiful fall scene using acrylics while learning techniques like color blending\, shadowing\, and perspective. A fun\, cozy class you won’t want to miss! \nAt the Phippen Museum\, our Art & Wine sessions are relaxed\, creative afternoons where guests can unwind\, enjoy a drink\, and explore their artistic side. Each month features a guided\, step-by-step project that’s perfect for beginners and seasoned painters alike — all materials provided\, no experience required.
URL:https://phippenartmuseum.org/event/art-wine-w-francis-leon-beegle-2/
LOCATION:Phippen Museum\, 4701 HWY 89 North\, Prescott\, 86301\, United States
CATEGORIES:Art & Wine
END:VEVENT
END:VCALENDAR