BEGIN:VCALENDAR
VERSION:2.0
PRODID:-//Phippen Museum - ECPv6.15.20//NONSGML v1.0//EN
CALSCALE:GREGORIAN
METHOD:PUBLISH
X-WR-CALNAME:Phippen Museum
X-ORIGINAL-URL:https://phippenartmuseum.org
X-WR-CALDESC:Events for Phippen Museum
REFRESH-INTERVAL;VALUE=DURATION:PT1H
X-Robots-Tag:noindex
X-PUBLISHED-TTL:PT1H
BEGIN:VTIMEZONE
TZID:America/Phoenix
BEGIN:STANDARD
TZOFFSETFROM:-0700
TZOFFSETTO:-0700
TZNAME:MST
DTSTART:20250101T000000
END:STANDARD
END:VTIMEZONE
BEGIN:VEVENT
DTSTART;TZID=America/Phoenix:20260328T110000
DTEND;TZID=America/Phoenix:20260328T110000
DTSTAMP:20260420T080229
CREATED:20260326T200129Z
LAST-MODIFIED:20260326T200957Z
UID:8274-1774695600-1774695600@phippenartmuseum.org
SUMMARY:N.A.W.S. presents Stephen Quiller live demonstration
DESCRIPTION:Join us at the Phippen Museum for a special Awards Reception celebrating The Color of Light\, the Northern Arizona Watercolor Society’s spring exhibition. \nOn Saturday\, March 28 at 1:00 PM\, we will honor the talented artists featured in this exhibition\, showcasing the work of 33 members of the Northern Arizona Watercolor Society. This reception offers a wonderful opportunity to meet the artists and celebrate the creativity and skill behind this vibrant collection. \nEarlier in the day\, don’t miss a live watercolor demonstration by internationally renowned artist Stephen Quiller beginning at 11:00 AM. A signature member of the American Watercolor Society\, National Watercolor Society\, and Watercolor West\, Quiller is widely recognized for his mastery of water media and color. He is the recipient of the American Watercolor Society’s Gold Medal of Honor and Silver Medal\, among many other distinctions. \nQuiller is also the author of seven bestselling books on painting and color\, creator of the widely used Quiller Color Wheel\, and an influential educator who has taught workshops around the world. Known for his innovative techniques\, he works on a toned surface using transparent acrylic to create rich\, luminous layers that expand the possibilities of watercolor. \nEnjoy a full day of art\, inspiration\, and celebration at the Phippen Museum.
URL:https://phippenartmuseum.org/event/n-a-w-s-presents-stephen-quiller-live-demonstration/
LOCATION:Phippen Museum\, 4701 HWY 89 North\, Prescott\, 86301\, United States
CATEGORIES:Saturday Program,Special Event
ATTACH;FMTTYPE=image/jpeg:https://phippenartmuseum.org/wp-content/uploads/2026/03/NAWS-Presents-Stephen-Quiller.jpg
END:VEVENT
END:VCALENDAR