BEGIN:VCALENDAR
VERSION:2.0
PRODID:-//Phippen Museum - ECPv6.15.20//NONSGML v1.0//EN
CALSCALE:GREGORIAN
METHOD:PUBLISH
X-ORIGINAL-URL:https://phippenartmuseum.org
X-WR-CALDESC:Events for Phippen Museum
REFRESH-INTERVAL;VALUE=DURATION:PT1H
X-Robots-Tag:noindex
X-PUBLISHED-TTL:PT1H
BEGIN:VTIMEZONE
TZID:America/Phoenix
BEGIN:STANDARD
TZOFFSETFROM:-0700
TZOFFSETTO:-0700
TZNAME:MST
DTSTART:20250101T000000
END:STANDARD
END:VTIMEZONE
BEGIN:VEVENT
DTSTART;VALUE=DATE:20260523
DTEND;VALUE=DATE:20260526
DTSTAMP:20260420T113336
CREATED:20260305T192112Z
LAST-MODIFIED:20260305T202505Z
UID:8197-1779494400-1779753599@phippenartmuseum.org
SUMMARY:Annual Western Art Show & Sale
DESCRIPTION:Step Into the Heart of the West\nMay 23rd–24th | 9AM–5PM &\nMay 25th | 9AM–3PM\nFull Schedule \n\nEach year\, Memorial Day weekend comes alive in beautiful\, historic downtown Prescott\, Arizona\, as the Phippen Museum proudly presents its annual Western Art Show & Sale—one of the most anticipated western art events in the country. From May 23rd–25th\, 2026\, this beloved tradition returns bigger and better than ever\, welcoming art collectors\, museum lovers\, and western art enthusiasts from across the nation. \nMany of today’s most celebrated western artists launched their careers right here\, and this year more than 90 acclaimed artists from across America will gather once again at the stunning Yavapai County Courthouse Plaza. Visitors will enjoy a rare opportunity to view exceptional western art\, meet the artists in person\, and purchase original works directly from the master’s themselves. \nAdding to the excitement are two fan-favorite Quick Draw Challenges\, where artists race against the clock to create a finished piece of artwork in just 60 minutes—followed immediately by a live art auction while the paint’s still wet! An inspiring artist award ceremony will also recognize outstanding talent across eight artistic mediums\, including prestigious honors such as Best in Show\, the George Phippen Memorial Foundation Award\, and the People’s Choice Award.
URL:https://phippenartmuseum.org/event/annual-western-art-show-sale/
LOCATION:Courthouse\, 120 S. Cortez St.\, Prescott\, AZ\, 86303\, United States
CATEGORIES:Annual Event
ATTACH;FMTTYPE=image/jpeg:https://phippenartmuseum.org/wp-content/uploads/2026/03/PMW26-Show-poster.jpg
END:VEVENT
END:VCALENDAR